BEGIN:VCALENDAR
VERSION:2.0
PRODID:-//dal 1983 a Verona - ECPv6.15.20//NONSGML v1.0//EN
CALSCALE:GREGORIAN
METHOD:PUBLISH
X-ORIGINAL-URL:https://new.atpoiano.it/wordpress
X-WR-CALDESC:Eventi per dal 1983 a Verona
REFRESH-INTERVAL;VALUE=DURATION:PT1H
X-Robots-Tag:noindex
X-PUBLISHED-TTL:PT1H
BEGIN:VTIMEZONE
TZID:Europe/Rome
BEGIN:DAYLIGHT
TZOFFSETFROM:+0100
TZOFFSETTO:+0200
TZNAME:CEST
DTSTART:20240331T010000
END:DAYLIGHT
BEGIN:STANDARD
TZOFFSETFROM:+0200
TZOFFSETTO:+0100
TZNAME:CET
DTSTART:20241027T010000
END:STANDARD
BEGIN:DAYLIGHT
TZOFFSETFROM:+0100
TZOFFSETTO:+0200
TZNAME:CEST
DTSTART:20250330T010000
END:DAYLIGHT
BEGIN:STANDARD
TZOFFSETFROM:+0200
TZOFFSETTO:+0100
TZNAME:CET
DTSTART:20251026T010000
END:STANDARD
BEGIN:DAYLIGHT
TZOFFSETFROM:+0100
TZOFFSETTO:+0200
TZNAME:CEST
DTSTART:20260329T010000
END:DAYLIGHT
BEGIN:STANDARD
TZOFFSETFROM:+0200
TZOFFSETTO:+0100
TZNAME:CET
DTSTART:20261025T010000
END:STANDARD
END:VTIMEZONE
BEGIN:VEVENT
DTSTART;VALUE=DATE:20250512
DTEND;VALUE=DATE:20250628
DTSTAMP:20260423T102056
CREATED:20250418T070010Z
LAST-MODIFIED:20250522T135112Z
UID:10623-1747008000-1751068799@new.atpoiano.it
SUMMARY:Torneo delle nazioni
DESCRIPTION:
URL:https://new.atpoiano.it/wordpress/event/torneo-delle-nazioni/
LOCATION:Associazione Tennis Poiano\, Via Consolini\, 2\, Verona\, Italy
CATEGORIES:Feste,Torneo sociale
ATTACH;FMTTYPE=image/jpeg:https://new.atpoiano.it/wordpress/wp-content/uploads/2025/05/ATP-TorneoNazioni2025-LocandFB-2-scaled.jpg
END:VEVENT
BEGIN:VEVENT
DTSTART;TZID=Europe/Rome:20250516T140000
DTEND;TZID=Europe/Rome:20250518T180000
DTSTAMP:20260423T102056
CREATED:20250409T104932Z
LAST-MODIFIED:20250418T065055Z
UID:10521-1747404000-1747591200@new.atpoiano.it
SUMMARY:VENETO 155 BONUS - RODEO INFERMENTUM - 4 cat. M / F
DESCRIPTION:
URL:https://new.atpoiano.it/wordpress/event/veneto-155-bonus-rodeo-infermentum-4-cat-m-f/
LOCATION:Associazione Tennis Poiano\, Via Consolini\, 2\, Verona\, Italy
CATEGORIES:Torneo Rodeo FITP
END:VEVENT
BEGIN:VEVENT
DTSTART;TZID=Europe/Rome:20250520T080000
DTEND;TZID=Europe/Rome:20250531T180000
DTSTAMP:20260423T102056
CREATED:20250504T070119Z
LAST-MODIFIED:20250522T134806Z
UID:10702-1747728000-1748714400@new.atpoiano.it
SUMMARY:Manutenzione campo 3
DESCRIPTION:
URL:https://new.atpoiano.it/wordpress/event/manutenzione-campo-3/
LOCATION:Associazione Tennis Poiano\, Via Consolini\, 2\, Verona\, Italy
CATEGORIES:Manutenzione
ATTACH;FMTTYPE=image/jpeg:https://new.atpoiano.it/wordpress/wp-content/uploads/2025/05/IMG-20250521-WA0013-1.jpg
END:VEVENT
BEGIN:VEVENT
DTSTART;TZID=Europe/Rome:20250525T090000
DTEND;TZID=Europe/Rome:20250525T140000
DTSTAMP:20260423T102056
CREATED:20250518T194314Z
LAST-MODIFIED:20250522T121653Z
UID:10766-1748163600-1748181600@new.atpoiano.it
SUMMARY:Serie D3 Femminile AT Poiano - CT Union Creazzo
DESCRIPTION:
URL:https://new.atpoiano.it/wordpress/event/serie-d3-femminile-at-poiano-ct-union-creazzo/
LOCATION:Associazione Tennis Poiano\, Via Consolini\, 2\, Verona\, Italy
CATEGORIES:Campionato a squadre
ATTACH;FMTTYPE=image/jpeg:https://new.atpoiano.it/wordpress/wp-content/uploads/2025/05/2.jpg
END:VEVENT
BEGIN:VEVENT
DTSTART;TZID=Europe/Rome:20250525T090000
DTEND;TZID=Europe/Rome:20250525T150000
DTSTAMP:20260423T102056
CREATED:20250518T194638Z
LAST-MODIFIED:20250522T121620Z
UID:10768-1748163600-1748185200@new.atpoiano.it
SUMMARY:Serie D4 AT Poiano B - TC Noventa Vicentina
DESCRIPTION:
URL:https://new.atpoiano.it/wordpress/event/serie-d4-at-poiano-b-tc-noventa-vicentina/
LOCATION:Associazione Tennis Poiano\, Via Consolini\, 2\, Verona\, Italy
CATEGORIES:Campionato a squadre
ATTACH;FMTTYPE=image/jpeg:https://new.atpoiano.it/wordpress/wp-content/uploads/2025/05/2.jpg
END:VEVENT
END:VCALENDAR