BEGIN:VCALENDAR
VERSION:2.0
PRODID:-//dal 1983 a Verona - ECPv6.15.20//NONSGML v1.0//EN
CALSCALE:GREGORIAN
METHOD:PUBLISH
X-WR-CALNAME:dal 1983 a Verona
X-ORIGINAL-URL:https://new.atpoiano.it/wordpress
X-WR-CALDESC:Eventi per dal 1983 a Verona
REFRESH-INTERVAL;VALUE=DURATION:PT1H
X-Robots-Tag:noindex
X-PUBLISHED-TTL:PT1H
BEGIN:VTIMEZONE
TZID:Europe/Rome
BEGIN:DAYLIGHT
TZOFFSETFROM:+0100
TZOFFSETTO:+0200
TZNAME:CEST
DTSTART:20240331T010000
END:DAYLIGHT
BEGIN:STANDARD
TZOFFSETFROM:+0200
TZOFFSETTO:+0100
TZNAME:CET
DTSTART:20241027T010000
END:STANDARD
BEGIN:DAYLIGHT
TZOFFSETFROM:+0100
TZOFFSETTO:+0200
TZNAME:CEST
DTSTART:20250330T010000
END:DAYLIGHT
BEGIN:STANDARD
TZOFFSETFROM:+0200
TZOFFSETTO:+0100
TZNAME:CET
DTSTART:20251026T010000
END:STANDARD
BEGIN:DAYLIGHT
TZOFFSETFROM:+0100
TZOFFSETTO:+0200
TZNAME:CEST
DTSTART:20260329T010000
END:DAYLIGHT
BEGIN:STANDARD
TZOFFSETFROM:+0200
TZOFFSETTO:+0100
TZNAME:CET
DTSTART:20261025T010000
END:STANDARD
END:VTIMEZONE
BEGIN:VEVENT
DTSTART;TZID=Europe/Rome:20250405T150000
DTEND;TZID=Europe/Rome:20250405T180000
DTSTAMP:20260423T115747
CREATED:20250313T082203Z
LAST-MODIFIED:20250404T135131Z
UID:10366-1743865200-1743876000@new.atpoiano.it
SUMMARY:Coppa Italia TPRA (femminile): AT Poiano - Dueville
DESCRIPTION:La squadra femminile del nostro circolo incontra la formazione del Dueville per la seconda giornata del girone del campionato di Coppa Italia TPRA
URL:https://new.atpoiano.it/wordpress/event/coppa-italia-tpra-at-poiano-dueville/
LOCATION:Associazione Tennis Poiano\, Via Consolini\, 2\, Verona\, Italy
CATEGORIES:Campionato a squadre
END:VEVENT
BEGIN:VEVENT
DTSTART;VALUE=DATE:20250412
DTEND;VALUE=DATE:20250413
DTSTAMP:20260423T115747
CREATED:20250324T160922Z
LAST-MODIFIED:20250324T160922Z
UID:10489-1744416000-1744502399@new.atpoiano.it
SUMMARY:Smontaggio palloni
DESCRIPTION:
URL:https://new.atpoiano.it/wordpress/event/smontaggio-palloni/
LOCATION:Associazione Tennis Poiano\, Via Consolini\, 2\, Verona\, Italy
CATEGORIES:Manutenzione
END:VEVENT
BEGIN:VEVENT
DTSTART;TZID=Europe/Rome:20250413T100000
DTEND;TZID=Europe/Rome:20250413T130000
DTSTAMP:20260423T115747
CREATED:20250404T134919Z
LAST-MODIFIED:20250404T134919Z
UID:10510-1744538400-1744549200@new.atpoiano.it
SUMMARY:Coppa Italia TPRA (misto): AT Poiano - Tennis Palladio 98 srl
DESCRIPTION:
URL:https://new.atpoiano.it/wordpress/event/coppa-italia-tpra-misto-at-poiano-tennis-palladio-98-srl/
LOCATION:Associazione Tennis Poiano\, Via Consolini\, 2\, Verona\, Italy
END:VEVENT
BEGIN:VEVENT
DTSTART;TZID=Europe/Rome:20250415T210000
DTEND;TZID=Europe/Rome:20250415T230000
DTSTAMP:20260423T115747
CREATED:20250324T160717Z
LAST-MODIFIED:20250324T160717Z
UID:10487-1744750800-1744758000@new.atpoiano.it
SUMMARY:Assemblea dei soci
DESCRIPTION:
URL:https://new.atpoiano.it/wordpress/event/assemblea-dei-soci/
LOCATION:Associazione Tennis Poiano\, Via Consolini\, 2\, Verona\, Italy
CATEGORIES:Assemblea soci
END:VEVENT
BEGIN:VEVENT
DTSTART;TZID=Europe/Rome:20250421T100000
DTEND;TZID=Europe/Rome:20250421T160000
DTSTAMP:20260423T115747
CREATED:20250418T064754Z
LAST-MODIFIED:20250418T064754Z
UID:10620-1745229600-1745251200@new.atpoiano.it
SUMMARY:Pasquetta al Circolo
DESCRIPTION:
URL:https://new.atpoiano.it/wordpress/event/pasquetta-al-circolo/
LOCATION:Associazione Tennis Poiano\, Via Consolini\, 2\, Verona\, Italy
CATEGORIES:Feste
END:VEVENT
END:VCALENDAR