BEGIN:VCALENDAR
VERSION:2.0
PRODID:-//dal 1983 a Verona - ECPv6.15.20//NONSGML v1.0//EN
CALSCALE:GREGORIAN
METHOD:PUBLISH
X-ORIGINAL-URL:https://new.atpoiano.it/wordpress
X-WR-CALDESC:Eventi per dal 1983 a Verona
REFRESH-INTERVAL;VALUE=DURATION:PT1H
X-Robots-Tag:noindex
X-PUBLISHED-TTL:PT1H
BEGIN:VTIMEZONE
TZID:Europe/Rome
BEGIN:DAYLIGHT
TZOFFSETFROM:+0100
TZOFFSETTO:+0200
TZNAME:CEST
DTSTART:20240331T010000
END:DAYLIGHT
BEGIN:STANDARD
TZOFFSETFROM:+0200
TZOFFSETTO:+0100
TZNAME:CET
DTSTART:20241027T010000
END:STANDARD
BEGIN:DAYLIGHT
TZOFFSETFROM:+0100
TZOFFSETTO:+0200
TZNAME:CEST
DTSTART:20250330T010000
END:DAYLIGHT
BEGIN:STANDARD
TZOFFSETFROM:+0200
TZOFFSETTO:+0100
TZNAME:CET
DTSTART:20251026T010000
END:STANDARD
BEGIN:DAYLIGHT
TZOFFSETFROM:+0100
TZOFFSETTO:+0200
TZNAME:CEST
DTSTART:20260329T010000
END:DAYLIGHT
BEGIN:STANDARD
TZOFFSETFROM:+0200
TZOFFSETTO:+0100
TZNAME:CET
DTSTART:20261025T010000
END:STANDARD
END:VTIMEZONE
BEGIN:VEVENT
DTSTART;TZID=Europe/Rome:20250516T140000
DTEND;TZID=Europe/Rome:20250518T180000
DTSTAMP:20260421T231742
CREATED:20250409T104932Z
LAST-MODIFIED:20250418T065055Z
UID:10521-1747404000-1747591200@new.atpoiano.it
SUMMARY:VENETO 155 BONUS - RODEO INFERMENTUM - 4 cat. M / F
DESCRIPTION:
URL:https://new.atpoiano.it/wordpress/event/veneto-155-bonus-rodeo-infermentum-4-cat-m-f/
LOCATION:Associazione Tennis Poiano\, Via Consolini\, 2\, Verona\, Italy
CATEGORIES:Torneo Rodeo FITP
END:VEVENT
END:VCALENDAR