BEGIN:VCALENDAR
VERSION:2.0
PRODID:-//dal 1983 a Verona - ECPv6.15.20//NONSGML v1.0//EN
CALSCALE:GREGORIAN
METHOD:PUBLISH
X-ORIGINAL-URL:https://new.atpoiano.it/wordpress
X-WR-CALDESC:Eventi per dal 1983 a Verona
REFRESH-INTERVAL;VALUE=DURATION:PT1H
X-Robots-Tag:noindex
X-PUBLISHED-TTL:PT1H
BEGIN:VTIMEZONE
TZID:Europe/Rome
BEGIN:DAYLIGHT
TZOFFSETFROM:+0100
TZOFFSETTO:+0200
TZNAME:CEST
DTSTART:20230326T010000
END:DAYLIGHT
BEGIN:STANDARD
TZOFFSETFROM:+0200
TZOFFSETTO:+0100
TZNAME:CET
DTSTART:20231029T010000
END:STANDARD
BEGIN:DAYLIGHT
TZOFFSETFROM:+0100
TZOFFSETTO:+0200
TZNAME:CEST
DTSTART:20240331T010000
END:DAYLIGHT
BEGIN:STANDARD
TZOFFSETFROM:+0200
TZOFFSETTO:+0100
TZNAME:CET
DTSTART:20241027T010000
END:STANDARD
BEGIN:DAYLIGHT
TZOFFSETFROM:+0100
TZOFFSETTO:+0200
TZNAME:CEST
DTSTART:20250330T010000
END:DAYLIGHT
BEGIN:STANDARD
TZOFFSETFROM:+0200
TZOFFSETTO:+0100
TZNAME:CET
DTSTART:20251026T010000
END:STANDARD
END:VTIMEZONE
BEGIN:VEVENT
DTSTART;TZID=Europe/Rome:20241222T150000
DTEND;TZID=Europe/Rome:20241222T170000
DTSTAMP:20260423T201140
CREATED:20241209T130020Z
LAST-MODIFIED:20241209T130153Z
UID:9750-1734879600-1734886800@new.atpoiano.it
SUMMARY:Brindisi di Natale 2024
DESCRIPTION:Carissime socie e carissimi soci\, \ncome da tradizione\, anche questo anno vorremmo ritrovarci tutti assieme al circolo per farci gli auguri di Buone Feste. \nA questo fine abbiamo organizzato un piccolo rinfresco in sede: \nDOMENICA 22 DICEMBRE alle ore 15:00 \nVi aspettiamo numerosi!
URL:https://new.atpoiano.it/wordpress/event/brindisi-di-natale-2024/
LOCATION:Associazione Tennis Poiano\, Via Consolini\, 2\, Verona\, Italy
CATEGORIES:Feste
ATTACH;FMTTYPE=image/jpeg:https://new.atpoiano.it/wordpress/wp-content/uploads/2024/12/ATP-BRINDISI-DI-NATALE-2024-SITO.jpg
END:VEVENT
END:VCALENDAR