BEGIN:VCALENDAR
VERSION:2.0
PRODID:-//dal 1983 a Verona - ECPv6.15.20//NONSGML v1.0//EN
CALSCALE:GREGORIAN
METHOD:PUBLISH
X-WR-CALNAME:dal 1983 a Verona
X-ORIGINAL-URL:https://new.atpoiano.it/wordpress
X-WR-CALDESC:Eventi per dal 1983 a Verona
REFRESH-INTERVAL;VALUE=DURATION:PT1H
X-Robots-Tag:noindex
X-PUBLISHED-TTL:PT1H
BEGIN:VTIMEZONE
TZID:Europe/Rome
BEGIN:DAYLIGHT
TZOFFSETFROM:+0100
TZOFFSETTO:+0200
TZNAME:CEST
DTSTART:20230326T010000
END:DAYLIGHT
BEGIN:STANDARD
TZOFFSETFROM:+0200
TZOFFSETTO:+0100
TZNAME:CET
DTSTART:20231029T010000
END:STANDARD
BEGIN:DAYLIGHT
TZOFFSETFROM:+0100
TZOFFSETTO:+0200
TZNAME:CEST
DTSTART:20240331T010000
END:DAYLIGHT
BEGIN:STANDARD
TZOFFSETFROM:+0200
TZOFFSETTO:+0100
TZNAME:CET
DTSTART:20241027T010000
END:STANDARD
BEGIN:DAYLIGHT
TZOFFSETFROM:+0100
TZOFFSETTO:+0200
TZNAME:CEST
DTSTART:20250330T010000
END:DAYLIGHT
BEGIN:STANDARD
TZOFFSETFROM:+0200
TZOFFSETTO:+0100
TZNAME:CET
DTSTART:20251026T010000
END:STANDARD
END:VTIMEZONE
BEGIN:VEVENT
DTSTART;TZID=Europe/Rome:20241208T090000
DTEND;TZID=Europe/Rome:20241208T140000
DTSTAMP:20260423T200957
CREATED:20241208T042501Z
LAST-MODIFIED:20241208T042501Z
UID:9720-1733648400-1733666400@new.atpoiano.it
SUMMARY:Finale torneo Circoliamo 2024
DESCRIPTION:San Giovanni – ATPoiano
URL:https://new.atpoiano.it/wordpress/event/finale-torneo-circoliamo-2024/
LOCATION:Via G. Camuzzoni\, 1A\, 37138 Verona VR
CATEGORIES:Campionato a squadre
ATTACH;FMTTYPE=image/jpeg:https://new.atpoiano.it/wordpress/wp-content/uploads/2024/12/IMG-20241207-WA0004.jpg
END:VEVENT
END:VCALENDAR